BEGIN:VCALENDAR
VERSION:2.0
PRODID:-//GOTiS • Gołuchowski Ośrodek Turystyki i Sportu - ECPv6.15.15//NONSGML v1.0//EN
CALSCALE:GREGORIAN
METHOD:PUBLISH
X-WR-CALNAME:GOTiS • Gołuchowski Ośrodek Turystyki i Sportu
X-ORIGINAL-URL:https://www.gotis.pl
X-WR-CALDESC:Wydarzenia dla GOTiS • Gołuchowski Ośrodek Turystyki i Sportu
REFRESH-INTERVAL;VALUE=DURATION:PT1H
X-Robots-Tag:noindex
X-PUBLISHED-TTL:PT1H
BEGIN:VTIMEZONE
TZID:Europe/Warsaw
BEGIN:DAYLIGHT
TZOFFSETFROM:+0100
TZOFFSETTO:+0200
TZNAME:CEST
DTSTART:20220327T010000
END:DAYLIGHT
BEGIN:STANDARD
TZOFFSETFROM:+0200
TZOFFSETTO:+0100
TZNAME:CET
DTSTART:20221030T010000
END:STANDARD
BEGIN:DAYLIGHT
TZOFFSETFROM:+0100
TZOFFSETTO:+0200
TZNAME:CEST
DTSTART:20230326T010000
END:DAYLIGHT
BEGIN:STANDARD
TZOFFSETFROM:+0200
TZOFFSETTO:+0100
TZNAME:CET
DTSTART:20231029T010000
END:STANDARD
BEGIN:DAYLIGHT
TZOFFSETFROM:+0100
TZOFFSETTO:+0200
TZNAME:CEST
DTSTART:20240331T010000
END:DAYLIGHT
BEGIN:STANDARD
TZOFFSETFROM:+0200
TZOFFSETTO:+0100
TZNAME:CET
DTSTART:20241027T010000
END:STANDARD
BEGIN:DAYLIGHT
TZOFFSETFROM:+0100
TZOFFSETTO:+0200
TZNAME:CEST
DTSTART:20250330T010000
END:DAYLIGHT
BEGIN:STANDARD
TZOFFSETFROM:+0200
TZOFFSETTO:+0100
TZNAME:CET
DTSTART:20251026T010000
END:STANDARD
BEGIN:DAYLIGHT
TZOFFSETFROM:+0100
TZOFFSETTO:+0200
TZNAME:CEST
DTSTART:20260329T010000
END:DAYLIGHT
BEGIN:STANDARD
TZOFFSETFROM:+0200
TZOFFSETTO:+0100
TZNAME:CET
DTSTART:20261025T010000
END:STANDARD
END:VTIMEZONE
BEGIN:VEVENT
DTSTART;VALUE=DATE:20230604
DTEND;VALUE=DATE:20230605
DTSTAMP:20260423T001510
CREATED:20230511T153751Z
LAST-MODIFIED:20230511T153853Z
UID:1597-1685836800-1685923199@www.gotis.pl
SUMMARY:Turniej Piłki Nożnej Orlik 2023
DESCRIPTION:Zgłoszenia nazwy drużyny do turnieju piłki nożnej Orlik 2023.\nBoisko Orlik w Gołuchowie.\nSłowackiego\, 63-322 Gołuchów. \nDo pobrania\nDruk zgłoszeniowy (pobierz)
URL:https://www.gotis.pl/wydarzenie/turniej-pilki-noznej-orlik-2023/
ATTACH;FMTTYPE=image/jpeg:https://www.gotis.pl/wp-content/uploads/2023/05/orlik-2023-scaled.jpg
END:VEVENT
BEGIN:VEVENT
DTSTART;VALUE=DATE:20230618
DTEND;VALUE=DATE:20230619
DTSTAMP:20260423T001510
CREATED:20230610T121618Z
LAST-MODIFIED:20230610T121742Z
UID:1604-1687046400-1687132799@www.gotis.pl
SUMMARY:Turniej Siatkówki Plażowej 2023
DESCRIPTION:LGD stowarzyszenie „Wspólnie dla przyszłości” oraz Gołuchowski Ośrodek Turystyki i Sportu zapraszają na turniej siatkówki plażowej. \nTermin  \n18 czerwca 2023 roku o godzinie 10:00 \nMiejsce  \nGołuchowski Ośrodek Turystyki i Sportu \nul. Leśna 1\, 63-322 Gołuchów \nUwaga \nZapisy do dnia 14.06.2023 roku
URL:https://www.gotis.pl/wydarzenie/turniej-siatkowki-plazowej-2023/
ATTACH;FMTTYPE=image/png:https://www.gotis.pl/wp-content/uploads/2023/06/Plakat-turniej-I.png
END:VEVENT
BEGIN:VEVENT
DTSTART;VALUE=DATE:20230624
DTEND;VALUE=DATE:20230625
DTSTAMP:20260423T001510
CREATED:20230615T172320Z
LAST-MODIFIED:20230615T172613Z
UID:1608-1687564800-1687651199@www.gotis.pl
SUMMARY:Festyn Gołuchowski
DESCRIPTION:Zapraszamy na festyn Gołuchowski \nTermin  \n24 czerwca 2023 roku \nMiejsce  \nGołuchowski Ośrodek Turystyki i Sportu \nul. Leśna 1\, 63-322 Gołuchów
URL:https://www.gotis.pl/wydarzenie/festyn-goluchowski/
ATTACH;FMTTYPE=image/jpeg:https://www.gotis.pl/wp-content/uploads/2023/06/festyn-gotis-2023-scaled.jpg
END:VEVENT
BEGIN:VEVENT
DTSTART;VALUE=DATE:20230924
DTEND;VALUE=DATE:20230925
DTSTAMP:20260423T001510
CREATED:20230908T160415Z
LAST-MODIFIED:20230908T160554Z
UID:1630-1695513600-1695599999@www.gotis.pl
SUMMARY:Turniej Orlika 2023
DESCRIPTION:Turniej Orlika 2023 drużyn z Gminy Gołuchów. \nTermin  \n24 września 2023 \nZgłoszenia drużyn \nZgłoszenia należy przesłać na adres e-mail biuro@gotis.pl \ndo 18.09.2023r. \nDo pobrania  \nZgłoszenie na zawody 2023 (kliknij\, aby pobrać)
URL:https://www.gotis.pl/wydarzenie/turniej-orlika-2023/
ATTACH;FMTTYPE=image/jpeg:https://www.gotis.pl/wp-content/uploads/2023/09/Turniej-ORLIKA-2023-1.jpg
END:VEVENT
BEGIN:VEVENT
DTSTART;VALUE=DATE:20231111
DTEND;VALUE=DATE:20231112
DTSTAMP:20260423T001510
CREATED:20231023T141526Z
LAST-MODIFIED:20231023T141647Z
UID:1638-1699660800-1699747199@www.gotis.pl
SUMMARY:XIV Zakładowy Halowy Turniej Piłki Nożnej
DESCRIPTION:XIV Zakładowy Halowy Turniej Piłki Nożnej. \nTermin  \nRozgrywki rozpoczynają się 11 listopada 2023r. o godz.9:30 na hali sportowo – widowiskowej w Gołuchowie \nDo pobrania  \nZgłoszenie na zawody (kliknij\, aby pobrać) \nRegulamin turnieju
URL:https://www.gotis.pl/wydarzenie/xiv-zakladowy-halowy-turniej-pilki-noznej/
ATTACH;FMTTYPE=image/jpeg:https://www.gotis.pl/wp-content/uploads/2023/10/halowy-turniej-2023-scaled.jpg
END:VEVENT
BEGIN:VEVENT
DTSTART;VALUE=DATE:20241111
DTEND;VALUE=DATE:20241112
DTSTAMP:20260423T001510
CREATED:20241025T201559Z
LAST-MODIFIED:20241025T202417Z
UID:1931-1731283200-1731369599@www.gotis.pl
SUMMARY:XV Zakładowy Halowy Turniej Piłki Nożnej
DESCRIPTION:Termin  \nRozgrywki rozpoczynają się 11 listopada 2024r. o godz.9:30 na hali sportowo – widowiskowej w Gołuchowie \nDo pobrania  \nZgłoszenie na zawody  \nRegulamin turnieju
URL:https://www.gotis.pl/wydarzenie/xv-zakladowy-halowy-turniej-pilki-noznej/
ATTACH;FMTTYPE=image/jpeg:https://www.gotis.pl/wp-content/uploads/2024/10/halowy-turniej-11.11.24-scaled.jpg
END:VEVENT
BEGIN:VEVENT
DTSTART;TZID=Europe/Warsaw:20250525T113000
DTEND;TZID=Europe/Warsaw:20250525T120000
DTSTAMP:20260423T001510
CREATED:20250303T113147Z
LAST-MODIFIED:20250303T114554Z
UID:1985-1748172600-1748174400@www.gotis.pl
SUMMARY:II bieg Izabeli Czartoryskiej w Gołuchowie
DESCRIPTION:
URL:https://www.gotis.pl/wydarzenie/ii-bieg-izabeli-czartoryskiej-w-goluchowie/
ATTACH;FMTTYPE=image/jpeg:https://www.gotis.pl/wp-content/uploads/2025/03/plakat-scaled.jpg
END:VEVENT
BEGIN:VEVENT
DTSTART;VALUE=DATE:20251111
DTEND;VALUE=DATE:20251112
DTSTAMP:20260423T001510
CREATED:20251022T185057Z
LAST-MODIFIED:20251022T185545Z
UID:2019-1762819200-1762905599@www.gotis.pl
SUMMARY:XVI Zakładowy Halowy Turniej Piłki Nożnej
DESCRIPTION:Zapraszamy do udziału w Zakładowym Turnieju w Halowej Piłce Nożnej. \nTermin wydarzenia – 11.11.2025r. godzina 09:30 \nMiejsce wydarzenia – Hala Sportowo – Widowiskowa w Gołuchowie\nAdres – ul. Czartoryskich 53\, 63-322 Gołuchów \n  \nDo pobrania : \nZgłoszenie na zawody \nRegulamin turnieju
URL:https://www.gotis.pl/wydarzenie/xvi-zakladowy-halowy-turniej-pilki-noznej-2/
ATTACH;FMTTYPE=image/png:https://www.gotis.pl/wp-content/uploads/2025/10/Plakat-11-listopada-GOTiS-2025.png
END:VEVENT
END:VCALENDAR