BEGIN:VCALENDAR
VERSION:2.0
PRODID:-//GOTiS • Gołuchowski Ośrodek Turystyki i Sportu - ECPv6.15.15//NONSGML v1.0//EN
CALSCALE:GREGORIAN
METHOD:PUBLISH
X-ORIGINAL-URL:https://www.gotis.pl
X-WR-CALDESC:Wydarzenia dla GOTiS • Gołuchowski Ośrodek Turystyki i Sportu
REFRESH-INTERVAL;VALUE=DURATION:PT1H
X-Robots-Tag:noindex
X-PUBLISHED-TTL:PT1H
BEGIN:VTIMEZONE
TZID:Europe/Warsaw
BEGIN:DAYLIGHT
TZOFFSETFROM:+0100
TZOFFSETTO:+0200
TZNAME:CEST
DTSTART:20210328T010000
END:DAYLIGHT
BEGIN:STANDARD
TZOFFSETFROM:+0200
TZOFFSETTO:+0100
TZNAME:CET
DTSTART:20211031T010000
END:STANDARD
BEGIN:DAYLIGHT
TZOFFSETFROM:+0100
TZOFFSETTO:+0200
TZNAME:CEST
DTSTART:20220327T010000
END:DAYLIGHT
BEGIN:STANDARD
TZOFFSETFROM:+0200
TZOFFSETTO:+0100
TZNAME:CET
DTSTART:20221030T010000
END:STANDARD
BEGIN:DAYLIGHT
TZOFFSETFROM:+0100
TZOFFSETTO:+0200
TZNAME:CEST
DTSTART:20230326T010000
END:DAYLIGHT
BEGIN:STANDARD
TZOFFSETFROM:+0200
TZOFFSETTO:+0100
TZNAME:CET
DTSTART:20231029T010000
END:STANDARD
END:VTIMEZONE
BEGIN:VEVENT
DTSTART;VALUE=DATE:20220807
DTEND;VALUE=DATE:20220808
DTSTAMP:20260423T125050
CREATED:20220215T085419Z
LAST-MODIFIED:20220728T205956Z
UID:1424-1659830400-1659916799@www.gotis.pl
SUMMARY:Turniej piłki siatkowej plażowej
DESCRIPTION:Turniej piłki siatkowej plażowej odbędzie się w dniu 07.08.2022r.\, na boisku do piłki siatkowej na terenie Gołuchowskiego Ośrodka Turystyki i Sportu ul. Leśna 1\, 63-322 Gołuchów\, którego organizatorem jest Gmina Gołuchów – Gołuchowski Ośrodek Turystyki i Sportu. \nZałączniki do pobrania \nZgoda 2022 – plażowa piłka siatkowa \nZgłoszenie na zawody plażowa piłka siatkowa \nRegulamin Turnieju Plażowej Piłki Siatkowej o Puchar Wójta Gminy Gołuchów \nLista 2022 – plażowa piłka siatkowa
URL:https://www.gotis.pl/wydarzenie/turniej-pilki-siatkowej-plazowej/
ATTACH;FMTTYPE=image/jpeg:https://www.gotis.pl/wp-content/uploads/2022/02/pilka-siatkowa-plazowa.jpg
END:VEVENT
END:VCALENDAR