BEGIN:VCALENDAR
VERSION:2.0
PRODID:-//GOTiS • Gołuchowski Ośrodek Turystyki i Sportu - ECPv6.15.15//NONSGML v1.0//EN
CALSCALE:GREGORIAN
METHOD:PUBLISH
X-WR-CALNAME:GOTiS • Gołuchowski Ośrodek Turystyki i Sportu
X-ORIGINAL-URL:https://www.gotis.pl
X-WR-CALDESC:Wydarzenia dla GOTiS • Gołuchowski Ośrodek Turystyki i Sportu
REFRESH-INTERVAL;VALUE=DURATION:PT1H
X-Robots-Tag:noindex
X-PUBLISHED-TTL:PT1H
BEGIN:VTIMEZONE
TZID:Europe/Warsaw
BEGIN:DAYLIGHT
TZOFFSETFROM:+0100
TZOFFSETTO:+0200
TZNAME:CEST
DTSTART:20210328T010000
END:DAYLIGHT
BEGIN:STANDARD
TZOFFSETFROM:+0200
TZOFFSETTO:+0100
TZNAME:CET
DTSTART:20211031T010000
END:STANDARD
BEGIN:DAYLIGHT
TZOFFSETFROM:+0100
TZOFFSETTO:+0200
TZNAME:CEST
DTSTART:20220327T010000
END:DAYLIGHT
BEGIN:STANDARD
TZOFFSETFROM:+0200
TZOFFSETTO:+0100
TZNAME:CET
DTSTART:20221030T010000
END:STANDARD
BEGIN:DAYLIGHT
TZOFFSETFROM:+0100
TZOFFSETTO:+0200
TZNAME:CEST
DTSTART:20230326T010000
END:DAYLIGHT
BEGIN:STANDARD
TZOFFSETFROM:+0200
TZOFFSETTO:+0100
TZNAME:CET
DTSTART:20231029T010000
END:STANDARD
END:VTIMEZONE
BEGIN:VEVENT
DTSTART;VALUE=DATE:20221111
DTEND;VALUE=DATE:20221112
DTSTAMP:20260423T075713
CREATED:20220215T092408Z
LAST-MODIFIED:20221026T095951Z
UID:1448-1668124800-1668211199@www.gotis.pl
SUMMARY:Zakładowy Turniej w Halowej Piłce Nożnej
DESCRIPTION:Zapraszamy do udziału w Zakładowym Turnieju w Halowej Piłce Nożnej. \nTermin wydarzenia – 11.11.2022r. godzina 09:30 \nMiejsce wydarzenia – Hala Sportowo – Widowiskowa w Gołuchowie\nAdres – ul. Czartoryskich 53\, 63-322 Gołuchów \nPliki do pobrania \nZgłoszenie drużyny \nLista zawodników \nRegulamin turnieju \n 
URL:https://www.gotis.pl/wydarzenie/zakladowy-turniej-w-halowej-pilce-noznej/
ATTACH;FMTTYPE=image/jpeg:https://www.gotis.pl/wp-content/uploads/2022/02/pilka-halowa.jpg
END:VEVENT
END:VCALENDAR