BEGIN:VCALENDAR
VERSION:2.0
PRODID:-//GOTiS • Gołuchowski Ośrodek Turystyki i Sportu - ECPv6.15.15//NONSGML v1.0//EN
CALSCALE:GREGORIAN
METHOD:PUBLISH
X-WR-CALNAME:GOTiS • Gołuchowski Ośrodek Turystyki i Sportu
X-ORIGINAL-URL:https://www.gotis.pl
X-WR-CALDESC:Wydarzenia dla GOTiS • Gołuchowski Ośrodek Turystyki i Sportu
REFRESH-INTERVAL;VALUE=DURATION:PT1H
X-Robots-Tag:noindex
X-PUBLISHED-TTL:PT1H
BEGIN:VTIMEZONE
TZID:Europe/Warsaw
BEGIN:DAYLIGHT
TZOFFSETFROM:+0100
TZOFFSETTO:+0200
TZNAME:CEST
DTSTART:20210328T010000
END:DAYLIGHT
BEGIN:STANDARD
TZOFFSETFROM:+0200
TZOFFSETTO:+0100
TZNAME:CET
DTSTART:20211031T010000
END:STANDARD
BEGIN:DAYLIGHT
TZOFFSETFROM:+0100
TZOFFSETTO:+0200
TZNAME:CEST
DTSTART:20220327T010000
END:DAYLIGHT
BEGIN:STANDARD
TZOFFSETFROM:+0200
TZOFFSETTO:+0100
TZNAME:CET
DTSTART:20221030T010000
END:STANDARD
BEGIN:DAYLIGHT
TZOFFSETFROM:+0100
TZOFFSETTO:+0200
TZNAME:CEST
DTSTART:20230326T010000
END:DAYLIGHT
BEGIN:STANDARD
TZOFFSETFROM:+0200
TZOFFSETTO:+0100
TZNAME:CET
DTSTART:20231029T010000
END:STANDARD
END:VTIMEZONE
BEGIN:VEVENT
DTSTART;VALUE=DATE:20221204
DTEND;VALUE=DATE:20221205
DTSTAMP:20260423T063159
CREATED:20221115T092220Z
LAST-MODIFIED:20221116T165842Z
UID:1445-1670112000-1670198399@www.gotis.pl
SUMMARY:Mistrzostwa Gminy Gołuchów w tenisie stołowym
DESCRIPTION:Serdecznie zapraszamy na Mistrzostwa Gminy Gołuchów w tenisie stołowym 2022 r. \nTermin wydarzenia – 04.12.2022r.\, godzina 9:30 \nMiejsce wydarzenia  – Hala Sportowo – Widowiskowa w Gołuchowie \nAdres – ul. Czartoryskich 53\, 63-322 Gołuchów \nZgłoszenia do turnieju drogą mailową na adres biuro@goluchow.pl lub osobiście w siedzibie GOTIS. \nTermin zgłoszeń do 28 listopada 2022r. \nKategoria JUNIOR oraz OPEN. \nPliki do pobrania \nZgłoszenie do Mistrzostw Gminy Gołuchów w tenisie stołowym \nRegulamin Mistrzostw Gminy Gołuchów w tenisie stołowym
URL:https://www.gotis.pl/wydarzenie/mistrzostwa-gminy-goluchow-w-tenisie-stolowym/
ATTACH;FMTTYPE=image/jpeg:https://www.gotis.pl/wp-content/uploads/2022/11/plakat-mistrzostwa-gminy-2022.jpg
END:VEVENT
END:VCALENDAR