BEGIN:VCALENDAR
VERSION:2.0
PRODID:-//GOTiS • Gołuchowski Ośrodek Turystyki i Sportu - ECPv6.15.15//NONSGML v1.0//EN
CALSCALE:GREGORIAN
METHOD:PUBLISH
X-ORIGINAL-URL:https://www.gotis.pl
X-WR-CALDESC:Wydarzenia dla GOTiS • Gołuchowski Ośrodek Turystyki i Sportu
REFRESH-INTERVAL;VALUE=DURATION:PT1H
X-Robots-Tag:noindex
X-PUBLISHED-TTL:PT1H
BEGIN:VTIMEZONE
TZID:Europe/Warsaw
BEGIN:DAYLIGHT
TZOFFSETFROM:+0100
TZOFFSETTO:+0200
TZNAME:CEST
DTSTART:20220327T010000
END:DAYLIGHT
BEGIN:STANDARD
TZOFFSETFROM:+0200
TZOFFSETTO:+0100
TZNAME:CET
DTSTART:20221030T010000
END:STANDARD
BEGIN:DAYLIGHT
TZOFFSETFROM:+0100
TZOFFSETTO:+0200
TZNAME:CEST
DTSTART:20230326T010000
END:DAYLIGHT
BEGIN:STANDARD
TZOFFSETFROM:+0200
TZOFFSETTO:+0100
TZNAME:CET
DTSTART:20231029T010000
END:STANDARD
BEGIN:DAYLIGHT
TZOFFSETFROM:+0100
TZOFFSETTO:+0200
TZNAME:CEST
DTSTART:20240331T010000
END:DAYLIGHT
BEGIN:STANDARD
TZOFFSETFROM:+0200
TZOFFSETTO:+0100
TZNAME:CET
DTSTART:20241027T010000
END:STANDARD
END:VTIMEZONE
BEGIN:VEVENT
DTSTART;VALUE=DATE:20230924
DTEND;VALUE=DATE:20230925
DTSTAMP:20260422T164526
CREATED:20230908T160415Z
LAST-MODIFIED:20230908T160554Z
UID:1630-1695513600-1695599999@www.gotis.pl
SUMMARY:Turniej Orlika 2023
DESCRIPTION:Turniej Orlika 2023 drużyn z Gminy Gołuchów. \nTermin  \n24 września 2023 \nZgłoszenia drużyn \nZgłoszenia należy przesłać na adres e-mail biuro@gotis.pl \ndo 18.09.2023r. \nDo pobrania  \nZgłoszenie na zawody 2023 (kliknij\, aby pobrać)
URL:https://www.gotis.pl/wydarzenie/turniej-orlika-2023/
ATTACH;FMTTYPE=image/jpeg:https://www.gotis.pl/wp-content/uploads/2023/09/Turniej-ORLIKA-2023-1.jpg
END:VEVENT
END:VCALENDAR